BEGIN:VCALENDAR
VERSION:2.0
PRODID:-//www.kingcountycasa.org//NONSGML kigkonsult.se iCalcreator 2.30.10
 //
CALSCALE:GREGORIAN
METHOD:PUBLISH
UID:286f39a6-bea8-4f33-99a6-88dfaec71572
X-WR-CALDESC:If you have questions about becoming a Dependency CASA Volunte
 er in King County and want to find out more\, please come to a CASA virtua
 l info session. The session is held on the second Monday of each month\, e
 xcept that the session in October 2026 will be on 10/19/2026.\n\nJoin Zoom
  Meeting\nhttps://kingcounty.zoom.us/j/89609246413\n\nMeeting ID: 896 0924
  6413\nPasscode: CASA\n
X-WR-RELCALID:60d21d618b67b29515227b8b178ca6ca
X-WR-TIMEZONE:America/Los_Angeles
BEGIN:VTIMEZONE
TZID:America/Los_Angeles
BEGIN:STANDARD
TZNAME:PST
DTSTART:20251102T020000
TZOFFSETFROM:-0700
TZOFFSETTO:-0800
RDATE:20261101T020000
END:STANDARD
BEGIN:DAYLIGHT
TZNAME:PDT
DTSTART:20250309T020000
TZOFFSETFROM:-0800
TZOFFSETTO:-0700
RDATE:20260308T020000
RDATE:20270314T020000
END:DAYLIGHT
END:VTIMEZONE
BEGIN:VEVENT
UID:2e4555ea-741f-43fe-8033-592db4c3d8a3
DTSTAMP:20260422T085428Z
DESCRIPTION:If you have questions about becoming a Dependency CASA Voluntee
 r in King County and want to find out more\, please come to a CASA virtual
  info session. The session is held on the second Monday of each month\, ex
 cept that the session in October 2026 will be on 10/19/2026.\n\nJoin Zoom 
 Meeting\nhttps://kingcounty.zoom.us/j/89609246413\n\nMeeting ID: 896 0924 
 6413\nPasscode: CASA\n
DTSTART;TZID=America/Los_Angeles:20260309T120000
DTEND;TZID=America/Los_Angeles:20260309T130000
LOCATION:https://kingcounty.zoom.us/j/89609246413
SUMMARY:CASA Information Session
END:VEVENT
END:VCALENDAR
