BEGIN:VCALENDAR
VERSION:2.0
PRODID:-//www.kingcountycasa.org//NONSGML kigkonsult.se iCalcreator 2.30.10
 //
CALSCALE:GREGORIAN
METHOD:PUBLISH
UID:ab49d3e2-b9c0-424c-8be2-4c12527a606b
X-WR-CALDESC:Virtual CASA Info Session\nIf you want to find out more about 
 CASA and have questions\, please come to a virtual info session on\nevery 
 second Wednesday from January to December 2022\n\nJoin Zoom Meeting\nhttps
 ://kingcounty.zoom.us/j/82155565243\n\nMeeting ID: 821 5556 5243\nOne tap 
 mobile\n+12532158782\,\,82155565243# US (Tacoma)\n+16699006833\,\,82155565
 243# US (San Jose)\n\nDial by your location\n        +1 253 215 8782 US (T
 acoma)\n        +1 669 900 6833 US (San Jose)\n        +1 346 248 7799 US 
 (Houston)\n        +1 929 205 6099 US (New York)\n        +1 301 715 8592 
 US (Washington DC)\n        +1 312 626 6799 US (Chicago)\nMeeting ID: 821 
 5556 5243\n\n
X-WR-RELCALID:f2e69575719f3d4e9f58ac5be9dbe283
X-WR-TIMEZONE:America/Los_Angeles
BEGIN:VTIMEZONE
TZID:America/Los_Angeles
BEGIN:STANDARD
TZNAME:PST
DTSTART:20221106T020000
TZOFFSETFROM:-0700
TZOFFSETTO:-0800
RDATE:20231105T020000
END:STANDARD
BEGIN:DAYLIGHT
TZNAME:PDT
DTSTART:20220313T020000
TZOFFSETFROM:-0800
TZOFFSETTO:-0700
RDATE:20230312T020000
RDATE:20240310T020000
END:DAYLIGHT
END:VTIMEZONE
BEGIN:VEVENT
UID:0b16b204-6c9c-4c6c-aeda-35e5955367ae
DTSTAMP:20260425T022335Z
DESCRIPTION:Virtual CASA Info Session\nIf you want to find out more about C
 ASA and have questions\, please come to a virtual info session on\nevery s
 econd Wednesday from January to December 2022\n\nJoin Zoom Meeting\nhttps:
 //kingcounty.zoom.us/j/82155565243\n\nMeeting ID: 821 5556 5243\nOne tap m
 obile\n+12532158782\,\,82155565243# US (Tacoma)\n+16699006833\,\,821555652
 43# US (San Jose)\n\nDial by your location\n        +1 253 215 8782 US (Ta
 coma)\n        +1 669 900 6833 US (San Jose)\n        +1 346 248 7799 US (
 Houston)\n        +1 929 205 6099 US (New York)\n        +1 301 715 8592 U
 S (Washington DC)\n        +1 312 626 6799 US (Chicago)\nMeeting ID: 821 5
 556 5243\n\n
DTSTART;TZID=America/Los_Angeles:20221109T120000
DTEND;TZID=America/Los_Angeles:20221109T124500
LOCATION:
SUMMARY:Virtual CASA Info Session
END:VEVENT
END:VCALENDAR
