BEGIN:VCALENDAR
VERSION:2.0
PRODID:-//www.kingcountycasa.org//NONSGML kigkonsult.se iCalcreator 2.30.10
 //
CALSCALE:GREGORIAN
METHOD:PUBLISH
UID:099217b7-7b3d-4d55-b695-be62c82d4e60
X-WR-CALDESC:Virtual CASA Info Session\nIf you want to find out more about 
 CASA and have questions\, please come to a virtual info session on\nevery 
 second Wednesday from July to December 2021\nJoin Zoom Meeting\nhttps://ki
 ngcounty.zoom.us/j/96169543953\n\nMeeting ID: 961 6954 3953\nPasscode: 485
 319\nOne tap mobile\n+12532158782\,\,96169543953#\,\,\,\,*485319# US (Taco
 ma) \n+16699006833\,\,96169543953#\,\,\,\,*485319# US (San Jose)\n\nDial b
 y your location\n        +1 253 215 8782 US (Tacoma)\n        +1 669 900 6
 833 US (San Jose)\n        +1 346 248 7799 US (Houston)\n        +1 301 71
 5 8592 US (Washington DC)\n        +1 312 626 6799 US (Chicago)\n        +
 1 929 205 6099 US (New York)\nMeeting ID: 961 6954 3953\nPasscode: 485319
 \n\n
X-WR-RELCALID:d5fec4916ffd9a775b567c9ed4b377c4
X-WR-TIMEZONE:America/Chicago
BEGIN:VTIMEZONE
TZID:America/Chicago
BEGIN:STANDARD
TZNAME:CST
DTSTART:20211107T020000
TZOFFSETFROM:-0500
TZOFFSETTO:-0600
RDATE:20221106T020000
END:STANDARD
BEGIN:DAYLIGHT
TZNAME:CDT
DTSTART:20210314T020000
TZOFFSETFROM:-0600
TZOFFSETTO:-0500
RDATE:20220313T020000
RDATE:20230312T020000
END:DAYLIGHT
END:VTIMEZONE
BEGIN:VEVENT
UID:efd376bc-f392-4119-975f-c8ca914e0091
DTSTAMP:20260426T000924Z
DESCRIPTION:Virtual CASA Info Session\nIf you want to find out more about C
 ASA and have questions\, please come to a virtual info session on\nevery s
 econd Wednesday from July to December 2021\nJoin Zoom Meeting\nhttps://kin
 gcounty.zoom.us/j/96169543953\n\nMeeting ID: 961 6954 3953\nPasscode: 4853
 19\nOne tap mobile\n+12532158782\,\,96169543953#\,\,\,\,*485319# US (Tacom
 a) \n+16699006833\,\,96169543953#\,\,\,\,*485319# US (San Jose)\n\nDial by
  your location\n        +1 253 215 8782 US (Tacoma)\n        +1 669 900 68
 33 US (San Jose)\n        +1 346 248 7799 US (Houston)\n        +1 301 715
  8592 US (Washington DC)\n        +1 312 626 6799 US (Chicago)\n        +1
  929 205 6099 US (New York)\nMeeting ID: 961 6954 3953\nPasscode: 485319\n
 \n
DTSTART;TZID=America/Chicago:20211110T120000
DTEND;TZID=America/Chicago:20211110T124500
LOCATION:
SUMMARY:Virtual CASA Info Session
END:VEVENT
END:VCALENDAR
