BEGIN:VCALENDAR
VERSION:2.0
PRODID:-//www.kingcountycasa.org//NONSGML kigkonsult.se iCalcreator 2.30.10
 //
CALSCALE:GREGORIAN
METHOD:PUBLISH
UID:dc5a34ee-9903-4ce2-8693-787cb787ba83
X-WR-CALDESC:CASA Coffee & Connection is a relaxed space for CASAs & staff 
 to come together\, catch up\, and stay connected.\nNo agenda\, just good c
 onversation and a chance to build relationships with others who understand
  the work. We rotate locations across King County\, meeting at local cafés
  and community spaces along the way. This is a no-host gathering\, so ever
 yone is responsible for their own food & beverages. \nRSVPs are not requir
 ed\, but encouraged as they help us plan for space and staffing. You can R
 SVP by responding to the Outlook calendar invite.\nThis event is for curre
 nt CASAs only at this time. If you are not a current CASA\, please look ou
 t for future Coffee with a CASA events later in 2026.\nHave questions or s
 uggestions for a café or community space for a future gathering? Please em
 ail Sarah at schilds@kingcounty.gov  \n
X-WR-RELCALID:b02557229eae2d794dc2c44cec146267
X-WR-TIMEZONE:America/Los_Angeles
BEGIN:VTIMEZONE
TZID:America/Los_Angeles
BEGIN:STANDARD
TZNAME:PST
DTSTART:20251102T020000
TZOFFSETFROM:-0700
TZOFFSETTO:-0800
RDATE:20261101T020000
END:STANDARD
BEGIN:DAYLIGHT
TZNAME:PDT
DTSTART:20260308T020000
TZOFFSETFROM:-0800
TZOFFSETTO:-0700
RDATE:20270314T020000
END:DAYLIGHT
END:VTIMEZONE
BEGIN:VEVENT
UID:2843081e-0477-4f42-a17d-e83118cc5eb5
DTSTAMP:20260425T015850Z
DESCRIPTION:CASA Coffee & Connection is a relaxed space for CASAs & staff t
 o come together\, catch up\, and stay connected.\nNo agenda\, just good co
 nversation and a chance to build relationships with others who understand 
 the work. We rotate locations across King County\, meeting at local cafés 
 and community spaces along the way. This is a no-host gathering\, so every
 one is responsible for their own food & beverages. \nRSVPs are not require
 d\, but encouraged as they help us plan for space and staffing. You can RS
 VP by responding to the Outlook calendar invite.\nThis event is for curren
 t CASAs only at this time. If you are not a current CASA\, please look out
  for future Coffee with a CASA events later in 2026.\nHave questions or su
 ggestions for a café or community space for a future gathering? Please ema
 il Sarah at schilds@kingcounty.gov  \n
DTSTART;TZID=America/Los_Angeles:20260428T110000
DTEND;TZID=America/Los_Angeles:20260428T123000
LOCATION:
SUMMARY:CASA Coffee & Connection
END:VEVENT
END:VCALENDAR
