BEGIN:VCALENDAR
VERSION:2.0
PRODID:-//www.kingcountycasa.org//NONSGML kigkonsult.se iCalcreator 2.30.10
 //
CALSCALE:GREGORIAN
METHOD:PUBLISH
UID:17915897-91fb-407e-b778-e82004953e05
X-WR-CALDESC:Please join us for this lunch-and-learn about CASA report writ
 ing. CASA Attorney Brianna Johnston Hanks and CASA Supervisor Virginia Wha
 len will share tips and tricks about how to make your report stand out and
  best assist the Court. If you missed this training in August\, we encoura
 ge you to attend!
X-WR-RELCALID:c66a9c530059cb4c066527c73d0ced14
X-WR-TIMEZONE:America/Los_Angeles
BEGIN:VTIMEZONE
TZID:America/Los_Angeles
BEGIN:STANDARD
TZNAME:PST
DTSTART:20241103T020000
TZOFFSETFROM:-0700
TZOFFSETTO:-0800
RDATE:20251102T020000
END:STANDARD
BEGIN:DAYLIGHT
TZNAME:PDT
DTSTART:20240310T020000
TZOFFSETFROM:-0800
TZOFFSETTO:-0700
RDATE:20250309T020000
RDATE:20260308T020000
END:DAYLIGHT
END:VTIMEZONE
BEGIN:VEVENT
UID:8905006f-fa80-4e37-bf5e-638bd359f0ba
DTSTAMP:20260424T084747Z
DESCRIPTION:Please join us for this lunch-and-learn about CASA report writi
 ng. CASA Attorney Brianna Johnston Hanks and CASA Supervisor Virginia Whal
 en will share tips and tricks about how to make your report stand out and 
 best assist the Court. If you missed this training in August\, we encourag
 e you to attend!
DTSTART;TZID=America/Los_Angeles:20241115T120000
DTEND;TZID=America/Los_Angeles:20241115T131500
LOCATION:https://kingcounty.zoom.us/j/82377989715
SUMMARY:Report Writing Training
END:VEVENT
END:VCALENDAR
